BEGIN:VCALENDAR
VERSION:2.0
PRODID:-//webhousebrandcom.com - ECPv6.15.20//NONSGML v1.0//EN
CALSCALE:GREGORIAN
METHOD:PUBLISH
X-WR-CALNAME:webhousebrandcom.com
X-ORIGINAL-URL:https://webhousebrandcom.com
X-WR-CALDESC:Events for webhousebrandcom.com
REFRESH-INTERVAL;VALUE=DURATION:PT1H
X-Robots-Tag:noindex
X-PUBLISHED-TTL:PT1H
BEGIN:VTIMEZONE
TZID:America/New_York
BEGIN:DAYLIGHT
TZOFFSETFROM:-0500
TZOFFSETTO:-0400
TZNAME:EDT
DTSTART:20210314T070000
END:DAYLIGHT
BEGIN:STANDARD
TZOFFSETFROM:-0400
TZOFFSETTO:-0500
TZNAME:EST
DTSTART:20211107T060000
END:STANDARD
BEGIN:DAYLIGHT
TZOFFSETFROM:-0500
TZOFFSETTO:-0400
TZNAME:EDT
DTSTART:20220313T070000
END:DAYLIGHT
BEGIN:STANDARD
TZOFFSETFROM:-0400
TZOFFSETTO:-0500
TZNAME:EST
DTSTART:20221106T060000
END:STANDARD
BEGIN:DAYLIGHT
TZOFFSETFROM:-0500
TZOFFSETTO:-0400
TZNAME:EDT
DTSTART:20230312T070000
END:DAYLIGHT
BEGIN:STANDARD
TZOFFSETFROM:-0400
TZOFFSETTO:-0500
TZNAME:EST
DTSTART:20231105T060000
END:STANDARD
BEGIN:DAYLIGHT
TZOFFSETFROM:-0500
TZOFFSETTO:-0400
TZNAME:EDT
DTSTART:20240310T070000
END:DAYLIGHT
BEGIN:STANDARD
TZOFFSETFROM:-0400
TZOFFSETTO:-0500
TZNAME:EST
DTSTART:20241103T060000
END:STANDARD
BEGIN:DAYLIGHT
TZOFFSETFROM:-0500
TZOFFSETTO:-0400
TZNAME:EDT
DTSTART:20250309T070000
END:DAYLIGHT
BEGIN:STANDARD
TZOFFSETFROM:-0400
TZOFFSETTO:-0500
TZNAME:EST
DTSTART:20251102T060000
END:STANDARD
END:VTIMEZONE
BEGIN:VEVENT
DTSTART;TZID=America/New_York:20240424T140000
DTEND;TZID=America/New_York:20240424T170000
DTSTAMP:20260420T090109
CREATED:20221011T132632Z
LAST-MODIFIED:20221011T132632Z
UID:1915-1713967200-1713978000@webhousebrandcom.com
SUMMARY:Environmental Summer Event
DESCRIPTION:Quam ElementumWellentesque iaculis\, augue et vestibulum feugiat\, turpis nisi sagittis nisi\, id sodales nisl nisl sed velit. Pellentesque pretium efficitur dui\, et volutpat sapien. diam arcu. Vestibulum eget lacus tristique\, auctor elit nec\, lacinia neque. Proin hendrerit neque nec enim gravida scelerisque. Sed id iaculis dolor\, at malesuada Donec enim massa\, venenatis vitae placerat a\, cursus vel mauris. Nullam ornare leo sed blandit rhoncus.				\n				\n				\n				\n					Nisleds TinciduntFollentesque iaculis\, augue et vestibulum feugiat\, turpis nisi sagittis nisi\, id sodales nisl nisl sed velit. Pellentesque pretium efficitur dui\, et volutpat sapien. diam arcu. Vestibulum eget lacus tristique\, auctor elit nec\, lacinia neque. Proin hendrerit neque nec enim gravida scelerisque.				\n				\n				\n						\n					\n			\n						\n							\n							\n																											\n													\n									\n					\n						\n				\n									Nellentesque iaculis\, augue et vestibulum feugiat\, turpis nisi sagittis nisi\, id sodales nisl nisl sed velit. Pellentesque pretium efficitur dui\, et volutpat sapien. diam arcu.
URL:https://webhousebrandcom.com/event/environmental-summer-event/
LOCATION:The Ebert Hall\, 452 W Madison St\, Chicago\, Illinois\, United States
CATEGORIES:Generated
ATTACH;FMTTYPE=:
ORGANIZER;CN="Francesco Wuckert-Morar":MAILTO:francesco@wuckert-morar-qa.evnt.is
END:VEVENT
BEGIN:VEVENT
DTSTART;TZID=America/New_York:20240424T140000
DTEND;TZID=America/New_York:20240424T170000
DTSTAMP:20260420T090109
CREATED:20220824T092407Z
LAST-MODIFIED:20220824T092407Z
UID:1221-1713967200-1713978000@webhousebrandcom.com
SUMMARY:National Nature Event
DESCRIPTION:Quam ElementumWellentesque iaculis\, augue et vestibulum feugiat\, turpis nisi sagittis nisi\, id sodales nisl nisl sed velit. Pellentesque pretium efficitur dui\, et volutpat sapien. diam arcu. Vestibulum eget lacus tristique\, auctor elit nec\, lacinia neque. Proin hendrerit neque nec enim gravida scelerisque. Sed id iaculis dolor\, at malesuada Donec enim massa\, venenatis vitae placerat a\, cursus vel mauris. Nullam ornare leo sed blandit rhoncus.				\n				\n				\n				\n					Nisleds TinciduntFollentesque iaculis\, augue et vestibulum feugiat\, turpis nisi sagittis nisi\, id sodales nisl nisl sed velit. Pellentesque pretium efficitur dui\, et volutpat sapien. diam arcu. Vestibulum eget lacus tristique\, auctor elit nec\, lacinia neque. Proin hendrerit neque nec enim gravida scelerisque.				\n				\n				\n						\n					\n			\n						\n							\n							\n																											\n													\n									\n					\n						\n				\n									Nellentesque iaculis\, augue et vestibulum feugiat\, turpis nisi sagittis nisi\, id sodales nisl nisl sed velit. Pellentesque pretium efficitur dui\, et volutpat sapien. diam arcu.
URL:https://webhousebrandcom.com/event/national-nature-event/
LOCATION:The Ebert Hall\, 452 W Madison St\, Chicago\, Illinois\, United States
CATEGORIES:Generated
ATTACH;FMTTYPE=:
ORGANIZER;CN="Francesco Wuckert-Morar":MAILTO:francesco@wuckert-morar-qa.evnt.is
END:VEVENT
BEGIN:VEVENT
DTSTART;TZID=America/New_York:20240115T140000
DTEND;TZID=America/New_York:20240115T163000
DTSTAMP:20260420T090109
CREATED:20221011T132632Z
LAST-MODIFIED:20221011T132632Z
UID:1916-1705327200-1705336200@webhousebrandcom.com
SUMMARY:Energy & Environment Camp
DESCRIPTION:Quam ElementumWellentesque iaculis\, augue et vestibulum feugiat\, turpis nisi sagittis nisi\, id sodales nisl nisl sed velit. Pellentesque pretium efficitur dui\, et volutpat sapien. diam arcu. Vestibulum eget lacus tristique\, auctor elit nec\, lacinia neque. Proin hendrerit neque nec enim gravida scelerisque. Sed id iaculis dolor\, at malesuada Donec enim massa\, venenatis vitae placerat a\, cursus vel mauris. Nullam ornare leo sed blandit rhoncus.				\n				\n				\n				\n					Nisleds TinciduntFollentesque iaculis\, augue et vestibulum feugiat\, turpis nisi sagittis nisi\, id sodales nisl nisl sed velit. Pellentesque pretium efficitur dui\, et volutpat sapien. diam arcu. Vestibulum eget lacus tristique\, auctor elit nec\, lacinia neque. Proin hendrerit neque nec enim gravida scelerisque.				\n				\n				\n						\n					\n			\n						\n							\n							\n																											\n													\n									\n					\n						\n				\n									Nellentesque iaculis\, augue et vestibulum feugiat\, turpis nisi sagittis nisi\, id sodales nisl nisl sed velit. Pellentesque pretium efficitur dui\, et volutpat sapien. diam arcu.
URL:https://webhousebrandcom.com/event/energy-environment-camp/
LOCATION:The Ebert Hall\, 452 W Madison St\, Chicago\, Illinois\, United States
CATEGORIES:Generated
ATTACH;FMTTYPE=:
ORGANIZER;CN="Pablo Welch":MAILTO:pablo@welch-qa.evnt.is
END:VEVENT
BEGIN:VEVENT
DTSTART;TZID=America/New_York:20240115T140000
DTEND;TZID=America/New_York:20240115T163000
DTSTAMP:20260420T090109
CREATED:20220824T092406Z
LAST-MODIFIED:20220824T092406Z
UID:1217-1705327200-1705336200@webhousebrandcom.com
SUMMARY:Save The Penguins
DESCRIPTION:Quam ElementumWellentesque iaculis\, augue et vestibulum feugiat\, turpis nisi sagittis nisi\, id sodales nisl nisl sed velit. Pellentesque pretium efficitur dui\, et volutpat sapien. diam arcu. Vestibulum eget lacus tristique\, auctor elit nec\, lacinia neque. Proin hendrerit neque nec enim gravida scelerisque. Sed id iaculis dolor\, at malesuada Donec enim massa\, venenatis vitae placerat a\, cursus vel mauris. Nullam ornare leo sed blandit rhoncus.				\n				\n				\n				\n					Nisleds TinciduntFollentesque iaculis\, augue et vestibulum feugiat\, turpis nisi sagittis nisi\, id sodales nisl nisl sed velit. Pellentesque pretium efficitur dui\, et volutpat sapien. diam arcu. Vestibulum eget lacus tristique\, auctor elit nec\, lacinia neque. Proin hendrerit neque nec enim gravida scelerisque.				\n				\n				\n						\n					\n			\n						\n							\n							\n																											\n													\n									\n					\n						\n				\n									Nellentesque iaculis\, augue et vestibulum feugiat\, turpis nisi sagittis nisi\, id sodales nisl nisl sed velit. Pellentesque pretium efficitur dui\, et volutpat sapien. diam arcu.
URL:https://webhousebrandcom.com/event/save-the-penguins/
LOCATION:The Ebert Hall\, 452 W Madison St\, Chicago\, Illinois\, United States
CATEGORIES:Generated
ATTACH;FMTTYPE=:
ORGANIZER;CN="Pablo Welch":MAILTO:pablo@welch-qa.evnt.is
END:VEVENT
BEGIN:VEVENT
DTSTART;VALUE=DATE:20240110
DTEND;VALUE=DATE:20240111
DTSTAMP:20260420T090109
CREATED:20221011T132632Z
LAST-MODIFIED:20221011T132632Z
UID:1917-1704844800-1704931199@webhousebrandcom.com
SUMMARY:World Environment Day
DESCRIPTION:Quam ElementumWellentesque iaculis\, augue et vestibulum feugiat\, turpis nisi sagittis nisi\, id sodales nisl nisl sed velit. Pellentesque pretium efficitur dui\, et volutpat sapien. diam arcu. Vestibulum eget lacus tristique\, auctor elit nec\, lacinia neque. Proin hendrerit neque nec enim gravida scelerisque. Sed id iaculis dolor\, at malesuada Donec enim massa\, venenatis vitae placerat a\, cursus vel mauris. Nullam ornare leo sed blandit rhoncus.				\n				\n				\n				\n					Nisleds TinciduntFollentesque iaculis\, augue et vestibulum feugiat\, turpis nisi sagittis nisi\, id sodales nisl nisl sed velit. Pellentesque pretium efficitur dui\, et volutpat sapien. diam arcu. Vestibulum eget lacus tristique\, auctor elit nec\, lacinia neque. Proin hendrerit neque nec enim gravida scelerisque.				\n				\n				\n						\n					\n			\n						\n							\n							\n																											\n													\n									\n					\n						\n				\n									Nellentesque iaculis\, augue et vestibulum feugiat\, turpis nisi sagittis nisi\, id sodales nisl nisl sed velit. Pellentesque pretium efficitur dui\, et volutpat sapien. diam arcu.
URL:https://webhousebrandcom.com/event/world-environment-day/
LOCATION:The Hartmann Arena\, 759 Columbus Ave\, San Francisco\, California\, United States
CATEGORIES:Generated
ATTACH;FMTTYPE=:
ORGANIZER;CN="Jan Rippin-Cummings":MAILTO:jan@rippin-cummings-qa.evnt.is
END:VEVENT
BEGIN:VEVENT
DTSTART;VALUE=DATE:20240110
DTEND;VALUE=DATE:20240111
DTSTAMP:20260420T090109
CREATED:20220824T092407Z
LAST-MODIFIED:20220824T092407Z
UID:1222-1704844800-1704931199@webhousebrandcom.com
SUMMARY:Bird Conservation Days
DESCRIPTION:Quam ElementumWellentesque iaculis\, augue et vestibulum feugiat\, turpis nisi sagittis nisi\, id sodales nisl nisl sed velit. Pellentesque pretium efficitur dui\, et volutpat sapien. diam arcu. Vestibulum eget lacus tristique\, auctor elit nec\, lacinia neque. Proin hendrerit neque nec enim gravida scelerisque. Sed id iaculis dolor\, at malesuada Donec enim massa\, venenatis vitae placerat a\, cursus vel mauris. Nullam ornare leo sed blandit rhoncus.				\n				\n				\n				\n					Nisleds TinciduntFollentesque iaculis\, augue et vestibulum feugiat\, turpis nisi sagittis nisi\, id sodales nisl nisl sed velit. Pellentesque pretium efficitur dui\, et volutpat sapien. diam arcu. Vestibulum eget lacus tristique\, auctor elit nec\, lacinia neque. Proin hendrerit neque nec enim gravida scelerisque.				\n				\n				\n						\n					\n			\n						\n							\n							\n																											\n													\n									\n					\n						\n				\n									Nellentesque iaculis\, augue et vestibulum feugiat\, turpis nisi sagittis nisi\, id sodales nisl nisl sed velit. Pellentesque pretium efficitur dui\, et volutpat sapien. diam arcu.
URL:https://webhousebrandcom.com/event/bird-conservation-days/
LOCATION:The Hartmann Arena\, 759 Columbus Ave\, San Francisco\, California\, United States
CATEGORIES:Generated
ATTACH;FMTTYPE=:
ORGANIZER;CN="Jan Rippin-Cummings":MAILTO:jan@rippin-cummings-qa.evnt.is
END:VEVENT
BEGIN:VEVENT
DTSTART;TZID=America/New_York:20230716T183000
DTEND;TZID=America/New_York:20230716T203000
DTSTAMP:20260420T090109
CREATED:20220824T092406Z
LAST-MODIFIED:20220824T092406Z
UID:1215-1689532200-1689539400@webhousebrandcom.com
SUMMARY:International Tiger Day
DESCRIPTION:Quam ElementumWellentesque iaculis\, augue et vestibulum feugiat\, turpis nisi sagittis nisi\, id sodales nisl nisl sed velit. Pellentesque pretium efficitur dui\, et volutpat sapien. diam arcu. Vestibulum eget lacus tristique\, auctor elit nec\, lacinia neque. Proin hendrerit neque nec enim gravida scelerisque. Sed id iaculis dolor\, at malesuada Donec enim massa\, venenatis vitae placerat a\, cursus vel mauris. Nullam ornare leo sed blandit rhoncus.				\n				\n				\n				\n					Nisleds TinciduntFollentesque iaculis\, augue et vestibulum feugiat\, turpis nisi sagittis nisi\, id sodales nisl nisl sed velit. Pellentesque pretium efficitur dui\, et volutpat sapien. diam arcu. Vestibulum eget lacus tristique\, auctor elit nec\, lacinia neque. Proin hendrerit neque nec enim gravida scelerisque.				\n				\n				\n						\n					\n			\n						\n							\n							\n																											\n													\n									\n					\n						\n				\n									Nellentesque iaculis\, augue et vestibulum feugiat\, turpis nisi sagittis nisi\, id sodales nisl nisl sed velit. Pellentesque pretium efficitur dui\, et volutpat sapien. diam arcu.
URL:https://webhousebrandcom.com/event/international-tiger-day/
LOCATION:Baumbach\, Nader and Turcotte\, 958 S Michigan Ave\, Chicago\, Illinois\, United States
CATEGORIES:Generated
ATTACH;FMTTYPE=:
ORGANIZER;CN="Jan Rippin-Cummings":MAILTO:jan@rippin-cummings-qa.evnt.is
END:VEVENT
BEGIN:VEVENT
DTSTART;TZID=America/New_York:20230628T053000
DTEND;TZID=America/New_York:20230628T083000
DTSTAMP:20260420T090109
CREATED:20220824T092406Z
LAST-MODIFIED:20220824T092406Z
UID:1216-1687930200-1687941000@webhousebrandcom.com
SUMMARY:World Green Day
DESCRIPTION:Quam ElementumWellentesque iaculis\, augue et vestibulum feugiat\, turpis nisi sagittis nisi\, id sodales nisl nisl sed velit. Pellentesque pretium efficitur dui\, et volutpat sapien. diam arcu. Vestibulum eget lacus tristique\, auctor elit nec\, lacinia neque. Proin hendrerit neque nec enim gravida scelerisque. Sed id iaculis dolor\, at malesuada Donec enim massa\, venenatis vitae placerat a\, cursus vel mauris. Nullam ornare leo sed blandit rhoncus.				\n				\n				\n				\n					Nisleds TinciduntFollentesque iaculis\, augue et vestibulum feugiat\, turpis nisi sagittis nisi\, id sodales nisl nisl sed velit. Pellentesque pretium efficitur dui\, et volutpat sapien. diam arcu. Vestibulum eget lacus tristique\, auctor elit nec\, lacinia neque. Proin hendrerit neque nec enim gravida scelerisque.				\n				\n				\n						\n					\n			\n						\n							\n							\n																											\n													\n									\n					\n						\n				\n									Nellentesque iaculis\, augue et vestibulum feugiat\, turpis nisi sagittis nisi\, id sodales nisl nisl sed velit. Pellentesque pretium efficitur dui\, et volutpat sapien. diam arcu.
URL:https://webhousebrandcom.com/event/world-green-day/
LOCATION:The Hartmann Arena\, 759 Columbus Ave\, San Francisco\, California\, United States
CATEGORIES:Generated
ATTACH;FMTTYPE=:
ORGANIZER;CN="Tyree Bosco":MAILTO:tyree@bosco-qa.evnt.is
END:VEVENT
BEGIN:VEVENT
DTSTART;TZID=America/New_York:20230621T003000
DTEND;TZID=America/New_York:20230621T020000
DTSTAMP:20260420T090109
CREATED:20221011T132729Z
LAST-MODIFIED:20221011T132729Z
UID:1919-1687307400-1687312800@webhousebrandcom.com
SUMMARY:Marine Conservation Event
DESCRIPTION:Quam ElementumWellentesque iaculis\, augue et vestibulum feugiat\, turpis nisi sagittis nisi\, id sodales nisl nisl sed velit. Pellentesque pretium efficitur dui\, et volutpat sapien. diam arcu. Vestibulum eget lacus tristique\, auctor elit nec\, lacinia neque. Proin hendrerit neque nec enim gravida scelerisque. Sed id iaculis dolor\, at malesuada Donec enim massa\, venenatis vitae placerat a\, cursus vel mauris. Nullam ornare leo sed blandit rhoncus.				\n				\n				\n				\n					Nisleds TinciduntFollentesque iaculis\, augue et vestibulum feugiat\, turpis nisi sagittis nisi\, id sodales nisl nisl sed velit. Pellentesque pretium efficitur dui\, et volutpat sapien. diam arcu. Vestibulum eget lacus tristique\, auctor elit nec\, lacinia neque. Proin hendrerit neque nec enim gravida scelerisque.				\n				\n				\n						\n					\n			\n						\n							\n							\n																											\n													\n									\n					\n						\n				\n									Nellentesque iaculis\, augue et vestibulum feugiat\, turpis nisi sagittis nisi\, id sodales nisl nisl sed velit. Pellentesque pretium efficitur dui\, et volutpat sapien. diam arcu.
URL:https://webhousebrandcom.com/event/marine-conservation-event/
LOCATION:Baumbach\, Nader and Turcotte\, 958 S Michigan Ave\, Chicago\, Illinois\, United States
CATEGORIES:Generated
ATTACH;FMTTYPE=:
ORGANIZER;CN="Jan Rippin-Cummings":MAILTO:jan@rippin-cummings-qa.evnt.is
END:VEVENT
BEGIN:VEVENT
DTSTART;TZID=America/New_York:20230621T003000
DTEND;TZID=America/New_York:20230621T020000
DTSTAMP:20260420T090109
CREATED:20220824T092406Z
LAST-MODIFIED:20220824T092406Z
UID:1218-1687307400-1687312800@webhousebrandcom.com
SUMMARY:Corporate Eco Day Event
DESCRIPTION:Quam ElementumWellentesque iaculis\, augue et vestibulum feugiat\, turpis nisi sagittis nisi\, id sodales nisl nisl sed velit. Pellentesque pretium efficitur dui\, et volutpat sapien. diam arcu. Vestibulum eget lacus tristique\, auctor elit nec\, lacinia neque. Proin hendrerit neque nec enim gravida scelerisque. Sed id iaculis dolor\, at malesuada Donec enim massa\, venenatis vitae placerat a\, cursus vel mauris. Nullam ornare leo sed blandit rhoncus.				\n				\n				\n				\n					Nisleds TinciduntFollentesque iaculis\, augue et vestibulum feugiat\, turpis nisi sagittis nisi\, id sodales nisl nisl sed velit. Pellentesque pretium efficitur dui\, et volutpat sapien. diam arcu. Vestibulum eget lacus tristique\, auctor elit nec\, lacinia neque. Proin hendrerit neque nec enim gravida scelerisque.				\n				\n				\n						\n					\n			\n						\n							\n							\n																											\n													\n									\n					\n						\n				\n									Nellentesque iaculis\, augue et vestibulum feugiat\, turpis nisi sagittis nisi\, id sodales nisl nisl sed velit. Pellentesque pretium efficitur dui\, et volutpat sapien. diam arcu.
URL:https://webhousebrandcom.com/event/corporate-eco-day-event/
LOCATION:Baumbach\, Nader and Turcotte\, 958 S Michigan Ave\, Chicago\, Illinois\, United States
CATEGORIES:Generated
ATTACH;FMTTYPE=:
ORGANIZER;CN="Jan Rippin-Cummings":MAILTO:jan@rippin-cummings-qa.evnt.is
END:VEVENT
BEGIN:VEVENT
DTSTART;TZID=America/New_York:20221014T110000
DTEND;TZID=America/New_York:20221014T140000
DTSTAMP:20260420T090109
CREATED:20221011T132721Z
LAST-MODIFIED:20221011T132721Z
UID:1918-1665745200-1665756000@webhousebrandcom.com
SUMMARY:Air Pollution Day
DESCRIPTION:Quam ElementumWellentesque iaculis\, augue et vestibulum feugiat\, turpis nisi sagittis nisi\, id sodales nisl nisl sed velit. Pellentesque pretium efficitur dui\, et volutpat sapien. diam arcu. Vestibulum eget lacus tristique\, auctor elit nec\, lacinia neque. Proin hendrerit neque nec enim gravida scelerisque. Sed id iaculis dolor\, at malesuada Donec enim massa\, venenatis vitae placerat a\, cursus vel mauris. Nullam ornare leo sed blandit rhoncus.				\n				\n				\n				\n					Nisleds TinciduntFollentesque iaculis\, augue et vestibulum feugiat\, turpis nisi sagittis nisi\, id sodales nisl nisl sed velit. Pellentesque pretium efficitur dui\, et volutpat sapien. diam arcu. Vestibulum eget lacus tristique\, auctor elit nec\, lacinia neque. Proin hendrerit neque nec enim gravida scelerisque.				\n				\n				\n						\n					\n			\n						\n							\n							\n																											\n													\n									\n					\n						\n				\n									Nellentesque iaculis\, augue et vestibulum feugiat\, turpis nisi sagittis nisi\, id sodales nisl nisl sed velit. Pellentesque pretium efficitur dui\, et volutpat sapien. diam arcu.
URL:https://webhousebrandcom.com/event/air-pollution-day/
LOCATION:The Lockman Cafe\, 420 Sunset Boulevard\, Beverly Hills\, California\, United States
CATEGORIES:Generated
ATTACH;FMTTYPE=:
ORGANIZER;CN="Tyree Bosco":MAILTO:tyree@bosco-qa.evnt.is
END:VEVENT
BEGIN:VEVENT
DTSTART;TZID=America/New_York:20221014T110000
DTEND;TZID=America/New_York:20221014T140000
DTSTAMP:20260420T090109
CREATED:20220824T092407Z
LAST-MODIFIED:20220824T092407Z
UID:1224-1665745200-1665756000@webhousebrandcom.com
SUMMARY:Plastic Waste Cleaning Event
DESCRIPTION:Quam ElementumWellentesque iaculis\, augue et vestibulum feugiat\, turpis nisi sagittis nisi\, id sodales nisl nisl sed velit. Pellentesque pretium efficitur dui\, et volutpat sapien. diam arcu. Vestibulum eget lacus tristique\, auctor elit nec\, lacinia neque. Proin hendrerit neque nec enim gravida scelerisque. Sed id iaculis dolor\, at malesuada Donec enim massa\, venenatis vitae placerat a\, cursus vel mauris. Nullam ornare leo sed blandit rhoncus.				\n				\n				\n				\n					Nisleds TinciduntFollentesque iaculis\, augue et vestibulum feugiat\, turpis nisi sagittis nisi\, id sodales nisl nisl sed velit. Pellentesque pretium efficitur dui\, et volutpat sapien. diam arcu. Vestibulum eget lacus tristique\, auctor elit nec\, lacinia neque. Proin hendrerit neque nec enim gravida scelerisque.				\n				\n				\n						\n					\n			\n						\n							\n							\n																											\n													\n									\n					\n						\n				\n									Nellentesque iaculis\, augue et vestibulum feugiat\, turpis nisi sagittis nisi\, id sodales nisl nisl sed velit. Pellentesque pretium efficitur dui\, et volutpat sapien. diam arcu.
URL:https://webhousebrandcom.com/event/plastic-waste-cleaning-event/
LOCATION:The Lockman Cafe\, 420 Sunset Boulevard\, Beverly Hills\, California\, United States
CATEGORIES:Generated
ATTACH;FMTTYPE=:
ORGANIZER;CN="Tyree Bosco":MAILTO:tyree@bosco-qa.evnt.is
END:VEVENT
END:VCALENDAR